BEGIN:VCALENDAR
VERSION:2.0
PRODID:-//22 Academy - ECPv6.0.8//NONSGML v1.0//EN
CALSCALE:GREGORIAN
METHOD:PUBLISH
X-WR-CALNAME:22 Academy
X-ORIGINAL-URL:https://22academybaile.com
X-WR-CALDESC:Eventos para 22 Academy
REFRESH-INTERVAL;VALUE=DURATION:PT1H
X-Robots-Tag:noindex
X-PUBLISHED-TTL:PT1H
BEGIN:VTIMEZONE
TZID:Europe/Madrid
BEGIN:DAYLIGHT
TZOFFSETFROM:+0100
TZOFFSETTO:+0200
TZNAME:CEST
DTSTART:20230326T010000
END:DAYLIGHT
BEGIN:STANDARD
TZOFFSETFROM:+0200
TZOFFSETTO:+0100
TZNAME:CET
DTSTART:20231029T010000
END:STANDARD
END:VTIMEZONE
BEGIN:VEVENT
DTSTART;TZID=Europe/Madrid:20230217T080000
DTEND;TZID=Europe/Madrid:20230219T170000
DTSTAMP:20260425T052122
CREATED:20221201T104855Z
LAST-MODIFIED:20221201T104855Z
UID:210-1676620800-1676826000@22academybaile.com
SUMMARY:CARNAVAL
DESCRIPTION:Presentación de comparsas de carnaval en el Amaia Kz el viernes. Desfile de comparsas en Irún\, el sábado y el domingo a las 17:00.
URL:https://22academybaile.com/event/carnaval
END:VEVENT
END:VCALENDAR